BEGIN:VCALENDAR
PRODID:-//sitepark/sitekit//3.0/EN
VERSION:2.0
CALSCALE:GREGORIAN
BEGIN:VEVENT
UID:44688-0
DTSTAMP:20260420T034833Z
SUMMARY:25 Jahre Stadtgalerie Neu-Isenburg
DESCRIPTION:
URL:http://www.hugenottenhalle.de/veranstaltungskalender/veranstaltungen/ha
 uptkalender/jahre-stadtgalerie
DTSTART:20260507T163000Z
DTEND:20260507T215900Z
LOCATION:Schulgasse 1\, 63263 Neu-Isenburg
CATEGORIES:Neu-Isenburg,Ausstellungen,Ausstellungseröffnung,Führungen,Son
 stiges
END:VEVENT
END:VCALENDAR
